BEGIN:VCALENDAR
PRODID:-//www.transportworld.co.nz//EN
VERSION:2.0
METHOD:PUBLISH
BEGIN:VEVENT
DTSTART;TZID=America/New_York:20200213T
DTEND;TZID=America/New_York:20200213T
URL:https://www.transportworld.co.nz/whats-on-events-at-transport-world/george-begg-exhibit-opening-at-classic/
SUMMARY:George Begg exhibit opening at Classic Motorcycle Mecca
LOCATION:
DESCRIPTION:A spectacular new display brought to the public by the teams behind the world-class collections at Classic Motorcycle Mecca and Bill Richardson Transport World will also honour Begg. With vehicles built in his legendary workshop, ‘George’s Toyshop’, memorabilia from his motorcycling days (including his AJS race bike) and more, the...
END:VEVENT
END:VCALENDAR