BEGIN:VCALENDAR
PRODID:-//www.transportworld.co.nz//EN
VERSION:2.0
METHOD:PUBLISH
BEGIN:VEVENT
DTSTART;TZID=America/New_York:20191216T
DTEND;TZID=America/New_York:20200202T
URL:https://www.transportworld.co.nz/whats-on-events-at-transport-world/summer-school-holidays-2019-2020/
SUMMARY:Summer school holidays 2019-2020
LOCATION:
DESCRIPTION:f your family is looking for things to do – or you’re all out of ideas to keep visiting loved ones entertained during their time in the south – Bill Richardson Transport World is a guaranteed crowd-pleaser.
END:VEVENT
END:VCALENDAR