BEGIN:VCALENDAR
PRODID:-//www.transportworld.co.nz//EN
VERSION:2.0
METHOD:PUBLISH
BEGIN:VEVENT
DTSTART;TZID=America/New_York:20200215T
DTEND;TZID=America/New_York:20200216T
URL:https://www.transportworld.co.nz/whats-on-events-at-transport-world/george-begg-classic-speedfest/
SUMMARY:George Begg Classic Speedfest
LOCATION:
DESCRIPTION:Together Transport World and the Southland Sports Car Club will bring the first-ever George Begg Classic Speedfest at Invercargill’s Teretonga Park on 15 and 16 February.
END:VEVENT
END:VCALENDAR