BEGIN:VCALENDAR
PRODID:-//www.transportworld.co.nz//EN
VERSION:2.0
METHOD:PUBLISH
BEGIN:VEVENT
DTSTART;TZID=America/New_York:20180204T080000
DTEND;TZID=America/New_York:20180204T100000
URL:https://www.transportworld.co.nz/whats-on-events-at-transport-world/petrolhead-breakfast-11/
SUMMARY:Petrolhead Breakfast
LOCATION:The Grille cafe
DESCRIPTION:We are set to spin your wheels!
END:VEVENT
END:VCALENDAR